BEGIN:VCALENDAR
VERSION:2.0
PRODID:-//Brigantine Yacht Club - ECPv5.4.0.2//NONSGML v1.0//EN
CALSCALE:GREGORIAN
METHOD:PUBLISH
X-WR-CALNAME:Brigantine Yacht Club
X-ORIGINAL-URL:https://www.bycsail.com
X-WR-CALDESC:Events for Brigantine Yacht Club
BEGIN:VTIMEZONE
TZID:UTC
BEGIN:STANDARD
TZOFFSETFROM:+0000
TZOFFSETTO:+0000
TZNAME:UTC
DTSTART:20240101T000000
END:STANDARD
END:VTIMEZONE
BEGIN:VEVENT
DTSTART;TZID=UTC:20240621T200000
DTEND;TZID=UTC:20240621T220000
DTSTAMP:20260419T175452
CREATED:20240518T122230Z
LAST-MODIFIED:20240518T122230Z
UID:5172-1719000000-1719007200@www.bycsail.com
SUMMARY:8 PM. Membership Meeting
DESCRIPTION:
URL:https://www.bycsail.com/event/8-pm-membership-meeting/
END:VEVENT
END:VCALENDAR