BEGIN:VCALENDAR
VERSION:2.0
PRODID:-//Brigantine Yacht Club - ECPv5.4.0.2//NONSGML v1.0//EN
CALSCALE:GREGORIAN
METHOD:PUBLISH
X-WR-CALNAME:Brigantine Yacht Club
X-ORIGINAL-URL:https://www.bycsail.com
X-WR-CALDESC:Events for Brigantine Yacht Club
BEGIN:VTIMEZONE
TZID:UTC
BEGIN:STANDARD
TZOFFSETFROM:+0000
TZOFFSETTO:+0000
TZNAME:UTC
DTSTART:20240101T000000
END:STANDARD
END:VTIMEZONE
BEGIN:VEVENT
DTSTART;TZID=UTC:20240622T180000
DTEND;TZID=UTC:20240622T230000
DTSTAMP:20260419T145510
CREATED:20240518T122347Z
LAST-MODIFIED:20240518T152340Z
UID:5174-1719079200-1719097200@www.bycsail.com
SUMMARY:6 PM Sunset Bar
DESCRIPTION:
URL:https://www.bycsail.com/event/6-pm-sunset-bar-mark-dian/
END:VEVENT
END:VCALENDAR